BEGIN:VCALENDAR
VERSION:2.0
PRODID:-//https://www.nsdcrealtors.com//NONSGML kigkonsult.se iCalcreator 2.41.71//
CALSCALE:GREGORIAN
METHOD:PUBLISH
UID:35643661-3631-4165-a432-656638386531
X-WR-CALNAME:JCal Pro Calendar
X-WR-CALDESC:Your online events calendar
X-WR-TIMEZONE:America/Los_Angeles
BEGIN:VTIMEZONE
TZID:America/Los_Angeles
TZUNTIL:20271107T090000Z
BEGIN:STANDARD
TZNAME:PST
DTSTART:20251102T020000
TZOFFSETFROM:-0700
TZOFFSETTO:-0800
RDATE:20261101T020000
END:STANDARD
BEGIN:DAYLIGHT
TZNAME:PDT
DTSTART:20260308T020000
TZOFFSETFROM:-0800
TZOFFSETTO:-0700
RDATE:20270314T020000
END:DAYLIGHT
END:VTIMEZONE
BEGIN:VEVENT
UID:20240717T180000UTC-8708lV1olp@https://nsdcrealtors.com/
DTSTAMP:20260419T160505Z
CATEGORIES:Education Webinar
DESCRIPTION:<p style='text-align: center\;'><strong>Need Ethics? We Got You
  Covered!</strong></p>\n<p style='text-align: center\;'>The deadline to co
 mplete NAR’s required Ethics course for this cycle\, Cycle 7\, is December
  31. 2024</p>\n<p>NAR's Board of Directors approved a change to the Code o
 f Ethics training requirement\, extending&nbsp\;it&nbsp\;from every two ye
 ars to&nbsp\;<strong>every three years.</strong>&nbsp\;This&nbsp\;extends 
 the current cycle deadline from March 1\, 2022\, to&nbsp\;<strong>Dec. 31\
 , 2024</strong>.</p>\n<p>REALTORS® are required to complete&nbsp\;<a href=
 'https://www.nar.realtor/about-nar/governing-documents/code-of-ethics/code
 -of-ethics-training'>ethics training</a>&nbsp\;of not less than 2 hours\, 
 30 minutes of instructional time. The training must meet specific learning
  objectives and criteria established by the National Association of REALTO
 RS®.&nbsp\;</p>\n<p>Training may be completed through NAR’s online courses
  or through another method\, such as online or classroom courses via local
 /state associations.&nbsp\;<a href='https://www.nar.realtor/about-nar/gove
 rning-documents/code-of-ethics/code-of-ethics-training/consequences-for-fa
 ilure-to-complete-code-of-ethics-training'>Read the consequences</a>&nbsp\
 ;for failing to complete Code of Ethics training.</p>\n<p>&nbsp\;</p>\n<p>
 <strong>NSDCR Members</strong>: FREE</p>\n<p><strong>Commercial Members: F
 REE</strong></p>\n<p><strong>All Others&nbsp\; (Outside of NSDCR):&nbsp\;<
 /strong>$20 (To register\,&nbsp\;<joomla-hidden-mail  is-link='1' is-email
 ='0' first='ZW1haWwtZWR1Y2F0aW9u' last='bnNkY3JlYWx0b3JzLmNvbQ==' text='ZW
 1haWw=' base='' >This email address is being protected from spambots. You 
 need JavaScript enabled to view it.</joomla-hidden-mail>&nbsp\;- <a href='
 mailto:Education@nsdcrealtors.com'></a><joomla-hidden-mail  is-link='1' is
 -email='1' first='RWR1Y2F0aW9u' last='bnNkY3JlYWx0b3JzLmNvbQ==' text='RWR1
 Y2F0aW9uQG5zZGNyZWFsdG9ycy5jb20=' base='' >This email address is being pro
 tected from spambots. You need JavaScript enabled to view it.</joomla-hidd
 en-mail>)</p>\n<p style='text-align: center\;'><strong>Deadline to Registe
 r is September 19\, 2024\, at 3:00pm due to course material being emailed.
 </strong></p>
DTSTART;TZID=America/Los_Angeles:20240923T180000
DTEND;TZID=America/Los_Angeles:20240923T203000
SUMMARY:NAR Code of Ethics-Recorded Video
URL:https://www.nsdcrealtors.com/jcal/36-ce/3824-nar-code-of-ethics-recorde
 d-video
X-ALT-DESC;FMTTYPE=TEXT/HTML:<p style='text-align: center\;'><strong>Need E
 thics? We Got You Covered!</strong></p>\n<p style='text-align: center\;'>T
 he deadline to complete NAR’s required Ethics course for this cycle\, Cycl
 e 7\, is December 31. 2024</p>\n<p>NAR's Board of Directors approved a cha
 nge to the Code of Ethics training requirement\, extending&nbsp\;it&nbsp\;
 from every two years to&nbsp\;<strong>every three years.</strong>&nbsp\;Th
 is&nbsp\;extends the current cycle deadline from March 1\, 2022\, to&nbsp\
 ;<strong>Dec. 31\, 2024</strong>.</p>\n<p>REALTORS® are required to comple
 te&nbsp\;<a href='https://www.nar.realtor/about-nar/governing-documents/co
 de-of-ethics/code-of-ethics-training'>ethics training</a>&nbsp\;of not les
 s than 2 hours\, 30 minutes of instructional time. The training must meet 
 specific learning objectives and criteria established by the National Asso
 ciation of REALTORS®.&nbsp\;</p>\n<p>Training may be completed through NAR
 ’s online courses or through another method\, such as online or classroom 
 courses via local/state associations.&nbsp\;<a href='https://www.nar.realt
 or/about-nar/governing-documents/code-of-ethics/code-of-ethics-training/co
 nsequences-for-failure-to-complete-code-of-ethics-training'>Read the conse
 quences</a>&nbsp\;for failing to complete Code of Ethics training.</p>\n<p
 >&nbsp\;</p>\n<p><strong>NSDCR Members</strong>: FREE</p>\n<p><strong>Comm
 ercial Members: FREE</strong></p>\n<p><strong>All Others&nbsp\; (Outside o
 f NSDCR):&nbsp\;</strong>$20 (To register\,&nbsp\;<joomla-hidden-mail  is-
 link='1' is-email='0' first='ZW1haWwtZWR1Y2F0aW9u' last='bnNkY3JlYWx0b3JzL
 mNvbQ==' text='ZW1haWw=' base='' >This email address is being protected fr
 om spambots. You need JavaScript enabled to view it.</joomla-hidden-mail>&
 nbsp\;- <a href='mailto:Education@nsdcrealtors.com'></a><joomla-hidden-mai
 l  is-link='1' is-email='1' first='RWR1Y2F0aW9u' last='bnNkY3JlYWx0b3JzLmN
 vbQ==' text='RWR1Y2F0aW9uQG5zZGNyZWFsdG9ycy5jb20=' base='' >This email add
 ress is being protected from spambots. You need JavaScript enabled to view
  it.</joomla-hidden-mail>)</p>\n<p style='text-align: center\;'><strong>De
 adline to Register is September 19\, 2024\, at 3:00pm due to course materi
 al being emailed.</strong></p>
END:VEVENT
END:VCALENDAR
